BEGIN:VCALENDAR
VERSION:2.0
PRODID:-//Vadstena Nya teater
CALSCALE:GREGORIAN
METHOD:PUBLISH
X-WR-CALNAME:Vadstena Nya teater
X-ORIGINAL-URL:https://vadstenanyateater.se/produkt/julshow-bubbel-eller-bakslag/
X-WR-CALDESC:Julshow! &#8221;Bubbel eller bakslag?&#8221;
BEGIN:VEVENT
DTSTART;TZID=Europe/Helsinki:20261120T190000
DTEND;TZID=Europe/Helsinki:20261120T223000
SUMMARY:Julshow! ”Bubbel eller bakslag?”
DESCRIPTION:Vår Julshow 2026! En mousserande, musikalisk och medryckande föreställning om livets toppar, dalar och allt det där som inte går som planerat. Spelas från 20 november till 12 december kvällstid samt två söndagar lunchtid. Varmt välkomna!
URL:https://vadstenanyateater.se/produkt/julshow-bubbel-eller-bakslag/
LOCATION:
END:VEVENT
END:VCALENDAR
